BEGIN:VCALENDAR
VERSION:2.0
PRODID:icalendar-ruby
CALSCALE:GREGORIAN
METHOD:PUBLISH
BEGIN:VEVENT
DTSTAMP:20260424T094849Z
UID:http://www.suttonproperties.com.au/property?property_id=1765729
DTSTART:20260523T100000
DTEND:20260523T103000
CLASS:PUBLIC
CREATED:20260424T133628
DESCRIPTION: 
LAST-MODIFIED:20260424T185301
LOCATION:11C Woodberry Avenue\, COOMBS ACT 2611\, Australia
SUMMARY:11C Woodberry Avenue\,  Auction
URL;VALUE=URI:http://www.suttonproperties.com.au/property?property_id=17657
 29
END:VEVENT
END:VCALENDAR
